BEGIN:VCALENDAR
VERSION:2.0
PRODID:-//ABC Palm Beach Sail &amp; Power Squadron - ECPv6.10.1.1//NONSGML v1.0//EN
CALSCALE:GREGORIAN
METHOD:PUBLISH
X-WR-CALNAME:ABC Palm Beach Sail &amp; Power Squadron
X-ORIGINAL-URL:https://abcpalmbeach.org/home
X-WR-CALDESC:Events for ABC Palm Beach Sail &amp; Power Squadron
REFRESH-INTERVAL;VALUE=DURATION:PT1H
X-Robots-Tag:noindex
X-PUBLISHED-TTL:PT1H
BEGIN:VTIMEZONE
TZID:America/New_York
BEGIN:DAYLIGHT
TZOFFSETFROM:-0500
TZOFFSETTO:-0400
TZNAME:EDT
DTSTART:20260308T070000
END:DAYLIGHT
BEGIN:STANDARD
TZOFFSETFROM:-0400
TZOFFSETTO:-0500
TZNAME:EST
DTSTART:20261101T060000
END:STANDARD
END:VTIMEZONE
BEGIN:VEVENT
DTSTART;TZID=America/New_York:20260423T113000
DTEND;TZID=America/New_York:20260423T123000
DTSTAMP:20260421T060636
CREATED:20230508T232155Z
LAST-MODIFIED:20260316T203154Z
UID:1302-1776943800-1776947400@abcpalmbeach.org
SUMMARY:Lunch Bunch
DESCRIPTION:Palm Beach Squadron’s weekly social luncheon
URL:https://abcpalmbeach.org/home/event/lunch-bunch-7/
LOCATION:The Draft House\, 713 US Hwy 1\, North Palm Beach\, FL\, 33408\, United States
ORGANIZER;CN="Lt. Arlene Widmayer":MAILTO:rsvp@abcpalmbeach.org
END:VEVENT
BEGIN:VEVENT
DTSTART;TZID=America/New_York:20260425T090000
DTEND;TZID=America/New_York:20260425T120000
DTSTAMP:20260421T060636
CREATED:20250721T154913Z
LAST-MODIFIED:20260117T152828Z
UID:4577-1777107600-1777118400@abcpalmbeach.org
SUMMARY:Seminar: All About VHF/DSC Marine Radio
DESCRIPTION:This seminar will help you to get familiar with your boat’s VHF marine radio. \n\n\n\n  \n\n\n\nYou will learn how to use VHF radio like a pro\, including the digital selective calling (DSC) rescue feature. Also discussed will be how VHF radios work and their controls\, using the correct channels\, advanced methods of communication\, and more.\n\n\n\n\n\n\nClick Here to Register\n\n\n\n\n\n–DAYS–HOURS–MINUTES–SECONDS\n\n\n\n\nClick Here to Register
URL:https://abcpalmbeach.org/home/event/seminar-marine-vhf-radio/
LOCATION:Anchorage Park Activities Building\, 603 Anchorage Drive\, North Palm Beach\, Florida\, 33408\, United States
END:VEVENT
BEGIN:VEVENT
DTSTART;TZID=America/New_York:20260427T173000
DTEND;TZID=America/New_York:20260427T183000
DTSTAMP:20260421T060636
CREATED:20230508T155958Z
LAST-MODIFIED:20260316T204509Z
UID:1286-1777311000-1777314600@abcpalmbeach.org
SUMMARY:Mischief Monday Dinner
DESCRIPTION:Palm Beach Squadron’s weekly social dinner
URL:https://abcpalmbeach.org/home/event/mischief-monday-4/
LOCATION:The Islander\, 181 S. Ocean Ave\, Palm Beach Shores\, Florida\, 33404\, United States
CATEGORIES:Social Dinner
ORGANIZER;CN="Lt. Arlene Widmayer":MAILTO:rsvp@abcpalmbeach.org
END:VEVENT
BEGIN:VEVENT
DTSTART;TZID=America/New_York:20260430T113000
DTEND;TZID=America/New_York:20260430T123000
DTSTAMP:20260421T060636
CREATED:20230508T160107Z
LAST-MODIFIED:20260316T203250Z
UID:1288-1777548600-1777552200@abcpalmbeach.org
SUMMARY:Lunch Bunch
DESCRIPTION:Palm Beach Squadron’s weekly social lunch
URL:https://abcpalmbeach.org/home/event/lunch-bunch-4/
LOCATION:The Draft House\, 713 US Hwy 1\, North Palm Beach\, FL\, 33408\, United States
CATEGORIES:PBSPS Social Lunch
ORGANIZER;CN="Lt. Arlene Widmayer":MAILTO:rsvp@abcpalmbeach.org
END:VEVENT
END:VCALENDAR